Workbook

Sheet 01-Datos y Cargas
B3: MURO DE CONTENCIÓN DE HORMIGÓN ARMADO EN MÉNSULA
G7: h = Desnivel de Terreno a salvar: | K7: 300 | L7: cm
G8: H = h + D = | K8: =K19+K7 -> 330 | L8: cm
G9: HT = H +110cm(1) = | K9: =K8+110 -> 440 | L9: cm
G10: (1) El Muro sube unos 150 cm por encima del terreno
G11: superior, s/Proyecto.
G13: DIMENSIONES DEL MURO EN MÉNSULA
G14: Valores Predimensionado (cm) | K14: Valores Propuestos
G15: A = 1/3 B = | H15: =H16/3 -> 55 | I15: a | J15: =J16/3 -> 73.333333 | K15: 0 | L15: cm
G16: B = 1/2 a 2/3 H = | H16: =K8/2 -> 165 | I16: a | J16: =2*K8/3 -> 220 | K16: 240 | L16: cm
G17: B' = 1/12 H a 1/10 H = | H17: =K8/12 -> 27.5 | I17: a | J17: =K8/10 -> 33 | K17: 25 | L17: cm
G18: C = 1/24 H = | J18: =K8/24 -> 13.75 | K18: 17 | L18: cm
G19: D = 1/12 H a 1/10 H = | H19: =K8/12 -> 27.5 | I19: a | J19: =K8/10 -> 33 | K19: 30 | L19: cm
B22: CARACTERISTICAS DEL SUELO
B24: ESTRATIGAFÍA: En los diferentes sondeos realizados, aprarece primeramente una capa de limo arenoso,
B25: con material calcareo sin plasticidad. El suelo se clasifica como SM, arenas limosas, limos arenosos.
B27: st: Tensión Admisible = | E27: 1.2 | F27: Kg/cm2
B28: Cb: Coeficiente de Balasto = | E28: 4.2 | F28: Kg/cm3
B29: Ka: Coeficiente de Empuje Activo = | E29: 0.33 a 0.27
B30: Kp: Coeficiente de Empuje Pasivo = | E30: 3.00 a 3.70
B31: g : Peso Específico del suelo = | E31: 1.8 | F31: ton/m3
B32: No se registra presencia de Napa Freática en la profundidad analizada.
B34: NOTA: Ejecutar el Muro de Contención en Mensula luego de haber ejecutado los Trabajos de limpieza,
B35: relleno y compactación s/Estudio de Suelos realizado en el lugar de emplazamiento de las Obras.
B37: 1- CARGAS Y EMPUJES GENERADOS POR EL TERRENO.
B39: Los muros de contención están sometidos a una serie de cargas y empujes, entre los que podemos citar:
B40: 1 - Empujes activos y pasivos generados por el suelo.
B41: 2 - Empujes generados por el agua qeue contiene el suelo.
B42: 3 - Peso propio.
B43: 4 - Reacción vertical del suelo.
B44: 5 - Fuerza de fricción con la base.
B45: 6 - Sobrecargas sobre el relleno.
B46: 7 - Subpresión.

Sheet 02-Verificación Estabilidad 
B3: 2- VERIFICACIONES DE ESTABILIDAD Y TENSIONES SOBRE EL TERRENO
B5: 1 - Empuje Horizontal generado por el suelo.
D7: Donde: | G7: : Presión activa para suelos granulares
E8: H: Altura considerada para el Análisis = | I8: ='01-Datos y Cargas'!K8 -> 330 | J8: cm
G9: =POWER(TAN((45-J11/2)*3.141592654/180),2) -> 0.33333333
E10: b = Angulo de Inclinación superior del Terreno = | J10: 0
E11: f = Angulo de fricción interna del Suelo Granular = | J11: 30
B12: Luego: | E12: gs = | F12: ='01-Datos y Cargas'!E31*1000 -> 1800 | G12: Kg/m3
D14: =0.5*G9*F12*I8*I8/10000 -> 3267 | E14: Kg/m
B17: 2 - Cálculo de las Fuerzas Verticales.
B19: Datos Geométricos:
B20: A= | C20: ='01-Datos y Cargas'!K15/100 -> 0 | D20: m
B21: B = C = | C21: ='01-Datos y Cargas'!K17/100 -> 0.25 | D21: m
B22: B = | C22: ='01-Datos y Cargas'!K16/100 -> 2.4 | D22: m
B23: L = | C23: =C22-C20-C21 -> 2.15 | D23: m
B24: D = | C24: 0.3 | D24: m
B25: H = | C25: ='01-Datos y Cargas'!K8/100 -> 3.3 | D25: m
B26: HT = | C26: ='01-Datos y Cargas'!K9/100 -> 4.4 | D26: m
B28: x1 = | C28: =C20+C21+C23/2 -> 1.325 | D28: m
B29: x2 = | C29: =C20+C21/2 -> 0.125 | D29: m
B30: x3 = | C30: =C22/2 -> 1.2 | D30: m
B32: g suelo: | C32: =F12 -> 1800 | D32: Kg/m3
B33: g H°: | C33: 2400 | D33: Kg/m3
B35: Obs: En este estado de cargas no se considera la Sobrecarga "q" por resultar favorable para la
B36: verificación al Volcamiento
B38: Se confecciona la siguiente tabla para determinar el momento Resistente:
B40: Sección | C40: Area | D40: Peso/unidad de | F40: Brazo del Momento | H40: Momento
B41: Nro. | C41: (m2) | D41: Longitud (Kg/m) | F41: medido desde el punto C (m) | H41: (Kgm/m)
B42: 1 | C42: =C23*(C25-C24) -> 6.45 | D42: =C42*C32 -> 11610 | F42: =C28 -> 1.325 | H42: =D42*F42 -> 15383.25
B43: 2 | C43: =C21*(C26-C24) -> 1.025 | D43: =C43*C33 -> 2460 | F43: =C29 -> 0.125 | H43: =D43*F43 -> 307.5
B44: 3 | C44: =C22*C24 -> 0.72 | D44: =C44*C33 -> 1728 | F44: =C30 -> 1.2 | H44: =D44*F44 -> 2073.6
E45: =D42+D43+D44 -> 15798 | F45: Kg/m | H45: =SUM(H42:H44) -> 17764.35 | I45: Kgm/m
B48: 3 - Verificación al Volcamiento.
B52: Momento de volteo:
E54: =D14*C25/3 -> 3593.7 | F54: Kgm/m
B56: Luego:
E57: =H45/E54 -> 4.9431923
B60: 4 - Verificación de las Tensiones sobre el Terreno.
B62: Las tensiones sobrel el terreno, calculadas a partir de las cargas de servicio se calculan a partir del punto
B63: de aplicación de la resultante de cargas x:
F65: =(H45-E54)/E45 -> 0.89699013 | G65: m
F68: =C22/2-F65 -> 0.30300987 | G68: m | H68: =C22/2 -> 1.2 | I68: m
B70: La resultante cae dentro del 1er nucleo, no existiendo tracciones en la Base.
B72: Como , las tensiones se calculan del siguiente modo:
E75: =E45/(C22*100*100)*(1+6*F68/C22) -> 1.1568906 | F75: Kg/cm2
G76: Verifica la tensión máxima admisible del suelo.
E78: =E45/(C22*100*100)*(1-6*F68/C22) -> 0.15960937 | F78: Kg/cm2
B81: 5 - Verificación al deslizamiento.
B83: En el caso que el terreno posea una inclinacíón b, el empuje que generará sobre el muro tendrá
B84: una componente horizontal y vertical. Bajo esa condición, debe verificarse:
F86: Siendo:
F87: gD = Coeficiente de seguridad contra el deslizamiento = 1.5
F88: f = Coeficiente de fricción en el plano de contacto H°-Suelo= 0.55
F89: W = peso del muro + suelo por encima de la base
F90: Ev = Componente vertical del Empuje
F91: EH = Componente horizontal del Empuje.
B93: 0.55 | C93: =E45 -> 15798 | D93: =B93*C93/C94 -> 2.659596
C94: =D14 -> 3267
B97: 6 - Armadura vertical del Muro y Verificación al Corte.
B99: Se calcula inicialmente el empuje horizontal sobre la sección 1-1
I111: T: Talon= | J111: 0.5 | K111: m
I112: Ancho base= | J112: D+T= | K112: =J111+C21 -> 0.75
B118: =E75 -> 1.1568906 | C118: =E78+(E75-E78)*(C22-C20)/C22 -> 1.1568906 | D118: =E78+(E75-E78)*(C22-C20-C21)/C22 -> 1.0530072 | F118: =E78 -> 0.15960937 | G118: Empuje horizontal y Planos de Falla Analizados:
B119: smax= | C119: s2= | D119: s3= | F119: smin= | G119: Sección 1-1 , Sección 2-2 , Sección 3-3
B120: Diagrama de presiones sobre el Suelo (Kg/cm2) | H120: h = (H - D ) = | I120: =C25-C24 -> 3 | J120: m
D123: =0.5*G9*C32*(C25-C24)*(C25-C24) -> 2700 | E123: Kg/m
D125: =D123*(C25-C24)/3 -> 2700 | E125: Kgm/m | F125: = | G125: =D125/100 -> 27 | H125: KNm/m
D127: =1.6*G125 -> 43.2 | E127: KNm/m
D129: =D127/0.9 -> 48 | E129: KNm/m
F131: 0.198 | G131: m , donde: cc: Recubrimiento
G132: db: Diámeto Barra long.
D133: =D129/(0.85*20000*1*F131*F131) -> 0.072021462 | E133: Donde: | F133: f*c= 0.85 x 20000KN/m2
F134: Obs.: H-20 equivalente a un H-17 p/CIRSOC 1982)
F135: bw= 1m ; d2 = (0.198m)2
D136: =1-SQRT(1-2*D133) -> 0.074820517
H138: =(0.85*20*100*D136*F131*100)/420 -> 5.99633 | I138: cm2/m
B141: El CIRSOC 201/05 especifica:
E144: =SQRT(20)*100*F131*100/(4*420) -> 5.2707317 | F144: cm2/m
E147: =1.4*100*F131*100/420 -> 6.6 | F147: cm2/m | G147: (verifica)
E149: =0.0018*100*F131*100 -> 3.564 | F149: cm2/m | G149: (verifica)
C151: Es posible adoptar s/cálculo: 1f12c/10cm
B153: Verificación al Corte en la sección 1-1
D155: =1.6*D123/100 -> 43.2 | E155: KN/m | G155: Vu: Resist. requerida calculada con cargas mayoradas
D157: =D155/0.75 -> 57.6 | E157: KN/m | G157: Vn: Resistencia nominal de cada sección)
G158: f=0.75 (Coef. reducción de acuerdo al tipo de rotura)
D159: =1/6*SQRT(20)*1*F131*1000 -> 147.58049 | E159: KN/m ˃ Vn | G159: Vc: Resistencia al Corte aportada por el H°
B161: Nota: Para el armado de la cara frontal del Muro se seleciona la armadura mínima: | I161: 1f8c/15cm
B164: 7 - Armadura horizontal.
B166: Para un espesor de pared C = | E166: =C21 -> 0.25 | F166: m
D168: 0.0025 . 100cm . 25cm = 6.25 cm2 | H168: 1f10c/12.5 cm ( 6.28cm2/m )
B206: 8 - Armadura del Talón posterior y Verificación al corte (Sección 3-3).
B208: Armadural del Talón posterior:
B210: Si se considera en este caso el efecto favorable de la presión inferior, el momento resulta:
J213: =1.6*(C32*(C25-C24)*C23*C23/2)+1.2*(C33*C24*C23*C23/2)-1.6*(F118*C23*C23/2+(D118-F118)*C23*C23/6)*10000 -> 5051.1486 | K213: Kgm/m
D216: =(J213/0.9)/100 -> 56.123873 | E216: KNm
F218: =C24-0.04-0.00785 -> 0.25215 | G218: m
D220: =D216/(0.85*20000*1*F218*F218) -> 0.05192551
D223: =1-SQRT(1-2*D220) -> 0.053348543
G225: =0.85*20*100*D223*F218*100/420 -> 5.4447904 | H225: cm2/m - 1f10c/10 cm ( 7.85cm2/m )
E227: =0.0018*100*C24*100 -> 5.4 | F227: cm2 | G227: Repartición: | H227: 1f8c/15 cm
...

Sheet 03- 
